BEGIN:VCALENDAR
VERSION:2.0
PRODID:-//Deutscher Dart-Verband e.V. - ECPv6.15.20//NONSGML v1.0//EN
CALSCALE:GREGORIAN
METHOD:PUBLISH
X-ORIGINAL-URL:https://deutscherdartverband.de
X-WR-CALDESC:Veranstaltungen für Deutscher Dart-Verband e.V.
REFRESH-INTERVAL;VALUE=DURATION:PT1H
X-Robots-Tag:noindex
X-PUBLISHED-TTL:PT1H
BEGIN:VTIMEZONE
TZID:Europe/Berlin
BEGIN:DAYLIGHT
TZOFFSETFROM:+0100
TZOFFSETTO:+0200
TZNAME:CEST
DTSTART:20240331T010000
END:DAYLIGHT
BEGIN:STANDARD
TZOFFSETFROM:+0200
TZOFFSETTO:+0100
TZNAME:CET
DTSTART:20241027T010000
END:STANDARD
BEGIN:DAYLIGHT
TZOFFSETFROM:+0100
TZOFFSETTO:+0200
TZNAME:CEST
DTSTART:20250330T010000
END:DAYLIGHT
BEGIN:STANDARD
TZOFFSETFROM:+0200
TZOFFSETTO:+0100
TZNAME:CET
DTSTART:20251026T010000
END:STANDARD
BEGIN:DAYLIGHT
TZOFFSETFROM:+0100
TZOFFSETTO:+0200
TZNAME:CEST
DTSTART:20260329T010000
END:DAYLIGHT
BEGIN:STANDARD
TZOFFSETFROM:+0200
TZOFFSETTO:+0100
TZNAME:CET
DTSTART:20261025T010000
END:STANDARD
END:VTIMEZONE
BEGIN:VEVENT
DTSTART;VALUE=DATE:20250322
DTEND;VALUE=DATE:20250324
DTSTAMP:20260422T045436
CREATED:20250304T145841Z
LAST-MODIFIED:20250304T145841Z
UID:9005-1742601600-1742774399@deutscherdartverband.de
SUMMARY:DDV-Sitzungswochenende in Bad Soden
DESCRIPTION:Samstag 22. März 2025 \nFinanzausschuss | Beginn um 10:00 Uhr \nSportausschuss | Beginn um 10:00 Uhr \nJugendausschuss | Beginn um 12:00 Uhr \nParadartausschuss | Beginn ca 14:00 Uhr nach Sportausschuss \n\n\nSonntag 23. März 2025 \nHauptausschuss | Beginn um 09:30 Uhr
URL:https://deutscherdartverband.de/event-ddv/ddv-sitzungswochenende-in-bad-soden/
LOCATION:Sachsen
CATEGORIES:Kalender DDV Allgemein
END:VEVENT
BEGIN:VEVENT
DTSTART;VALUE=DATE:20250329
DTEND;VALUE=DATE:20250330
DTSTAMP:20260422T045436
CREATED:20250304T172952Z
LAST-MODIFIED:20250304T180335Z
UID:9009-1743206400-1743292799@deutscherdartverband.de
SUMMARY:4 Nations Tournament 2025
DESCRIPTION:
URL:https://deutscherdartverband.de/event-ddv/4-nations-tournament-2025/
LOCATION:De Bonte Wever  Stadsbroek 17\, Assen
CATEGORIES:Kalender DDV Allgemein,Nationalteam
END:VEVENT
END:VCALENDAR