BEGIN:VCALENDAR
VERSION:2.0
PRODID:-//Deutscher Dart-Verband e.V. - ECPv6.15.20//NONSGML v1.0//EN
CALSCALE:GREGORIAN
METHOD:PUBLISH
X-WR-CALNAME:Deutscher Dart-Verband e.V.
X-ORIGINAL-URL:https://deutscherdartverband.de
X-WR-CALDESC:Veranstaltungen für Deutscher Dart-Verband e.V.
REFRESH-INTERVAL;VALUE=DURATION:PT1H
X-Robots-Tag:noindex
X-PUBLISHED-TTL:PT1H
BEGIN:VTIMEZONE
TZID:Europe/Berlin
BEGIN:DAYLIGHT
TZOFFSETFROM:+0100
TZOFFSETTO:+0200
TZNAME:CEST
DTSTART:20240331T010000
END:DAYLIGHT
BEGIN:STANDARD
TZOFFSETFROM:+0200
TZOFFSETTO:+0100
TZNAME:CET
DTSTART:20241027T010000
END:STANDARD
BEGIN:DAYLIGHT
TZOFFSETFROM:+0100
TZOFFSETTO:+0200
TZNAME:CEST
DTSTART:20250330T010000
END:DAYLIGHT
BEGIN:STANDARD
TZOFFSETFROM:+0200
TZOFFSETTO:+0100
TZNAME:CET
DTSTART:20251026T010000
END:STANDARD
BEGIN:DAYLIGHT
TZOFFSETFROM:+0100
TZOFFSETTO:+0200
TZNAME:CEST
DTSTART:20260329T010000
END:DAYLIGHT
BEGIN:STANDARD
TZOFFSETFROM:+0200
TZOFFSETTO:+0100
TZNAME:CET
DTSTART:20261025T010000
END:STANDARD
END:VTIMEZONE
BEGIN:VEVENT
DTSTART;VALUE=DATE:20250524
DTEND;VALUE=DATE:20250526
DTSTAMP:20260422T003057
CREATED:20250304T173702Z
LAST-MODIFIED:20250304T180316Z
UID:9014-1748044800-1748217599@deutscherdartverband.de
SUMMARY:Bundesliga-Endrunde in Döbeln
DESCRIPTION:
URL:https://deutscherdartverband.de/event-ddv/bundesliga-endrunde-in-doebeln/
LOCATION:Sporthalle Döbeln Nord\, Badische Straße 9\, Döbeln\, 04720
CATEGORIES:Bundesliga,Kalender DDV Allgemein
END:VEVENT
BEGIN:VEVENT
DTSTART;VALUE=DATE:20250531
DTEND;VALUE=DATE:20250601
DTSTAMP:20260422T003057
CREATED:20250304T175022Z
LAST-MODIFIED:20250304T180241Z
UID:9018-1748649600-1748735999@deutscherdartverband.de
SUMMARY:DDV-Cup & Verbandspokal in Bingen
DESCRIPTION:
URL:https://deutscherdartverband.de/event-ddv/ddv-cup-verbandspokal-in-bingen/
LOCATION:Soccer Arena Bingen\, Hitchinstraße 34\, Bingen\, 55411
CATEGORIES:Kalender DDV Allgemein,Pokalwettbewerbe
END:VEVENT
END:VCALENDAR