BEGIN:VCALENDAR
VERSION:2.0
PRODID:-//Deutscher Dart-Verband e.V. - ECPv6.15.20//NONSGML v1.0//EN
CALSCALE:GREGORIAN
METHOD:PUBLISH
X-WR-CALNAME:Deutscher Dart-Verband e.V.
X-ORIGINAL-URL:https://deutscherdartverband.de
X-WR-CALDESC:Veranstaltungen für Deutscher Dart-Verband e.V.
REFRESH-INTERVAL;VALUE=DURATION:PT1H
X-Robots-Tag:noindex
X-PUBLISHED-TTL:PT1H
BEGIN:VTIMEZONE
TZID:Europe/Berlin
BEGIN:DAYLIGHT
TZOFFSETFROM:+0100
TZOFFSETTO:+0200
TZNAME:CEST
DTSTART:20240331T010000
END:DAYLIGHT
BEGIN:STANDARD
TZOFFSETFROM:+0200
TZOFFSETTO:+0100
TZNAME:CET
DTSTART:20241027T010000
END:STANDARD
BEGIN:DAYLIGHT
TZOFFSETFROM:+0100
TZOFFSETTO:+0200
TZNAME:CEST
DTSTART:20250330T010000
END:DAYLIGHT
BEGIN:STANDARD
TZOFFSETFROM:+0200
TZOFFSETTO:+0100
TZNAME:CET
DTSTART:20251026T010000
END:STANDARD
BEGIN:DAYLIGHT
TZOFFSETFROM:+0100
TZOFFSETTO:+0200
TZNAME:CEST
DTSTART:20260329T010000
END:DAYLIGHT
BEGIN:STANDARD
TZOFFSETFROM:+0200
TZOFFSETTO:+0100
TZNAME:CET
DTSTART:20261025T010000
END:STANDARD
END:VTIMEZONE
BEGIN:VEVENT
DTSTART;VALUE=DATE:20250601
DTEND;VALUE=DATE:20250602
DTSTAMP:20260421T224345
CREATED:20250304T175805Z
LAST-MODIFIED:20250304T180219Z
UID:9022-1748736000-1748822399@deutscherdartverband.de
SUMMARY:Bundesliga-Aufstiegsrunde in Bingen
DESCRIPTION:
URL:https://deutscherdartverband.de/event-ddv/bundesliga-aufstiegsrunde-in-bingen/
LOCATION:Soccer Arena Bingen\, Hitchinstraße 34\, Bingen\, 55411
CATEGORIES:Bundesliga,Kalender DDV Allgemein
END:VEVENT
BEGIN:VEVENT
DTSTART;VALUE=DATE:20250614
DTEND;VALUE=DATE:20250616
DTSTAMP:20260421T224345
CREATED:20250512T185101Z
LAST-MODIFIED:20250512T191216Z
UID:9151-1749859200-1750031999@deutscherdartverband.de
SUMMARY:German Masters
DESCRIPTION:
URL:https://deutscherdartverband.de/event-ddv/german-masters/
LOCATION:Sporthalle Ost – Kornwestheim\, Theodor-Heuss-Str. 6\, Kornwestheim\, 70806\, Germany
CATEGORIES:Kalender DDV Allgemein
END:VEVENT
BEGIN:VEVENT
DTSTART;VALUE=DATE:20250621
DTEND;VALUE=DATE:20250622
DTSTAMP:20260421T224345
CREATED:20250512T190542Z
LAST-MODIFIED:20250616T145658Z
UID:9155-1750464000-1750550399@deutscherdartverband.de
SUMMARY:4er-Team Ligapokal
DESCRIPTION:
URL:https://deutscherdartverband.de/event-ddv/4er-team-ligapokal/
LOCATION:Soccer Arena Bingen\, Hitchinstraße 34\, Bingen\, 55411
CATEGORIES:Kalender DDV Allgemein
END:VEVENT
END:VCALENDAR