BEGIN:VCALENDAR
VERSION:2.0
PRODID:-//Deutscher Dart-Verband e.V. - ECPv6.15.20//NONSGML v1.0//EN
CALSCALE:GREGORIAN
METHOD:PUBLISH
X-ORIGINAL-URL:https://deutscherdartverband.de
X-WR-CALDESC:Veranstaltungen für Deutscher Dart-Verband e.V.
REFRESH-INTERVAL;VALUE=DURATION:PT1H
X-Robots-Tag:noindex
X-PUBLISHED-TTL:PT1H
BEGIN:VTIMEZONE
TZID:Europe/Berlin
BEGIN:DAYLIGHT
TZOFFSETFROM:+0100
TZOFFSETTO:+0200
TZNAME:CEST
DTSTART:20240331T010000
END:DAYLIGHT
BEGIN:STANDARD
TZOFFSETFROM:+0200
TZOFFSETTO:+0100
TZNAME:CET
DTSTART:20241027T010000
END:STANDARD
BEGIN:DAYLIGHT
TZOFFSETFROM:+0100
TZOFFSETTO:+0200
TZNAME:CEST
DTSTART:20250330T010000
END:DAYLIGHT
BEGIN:STANDARD
TZOFFSETFROM:+0200
TZOFFSETTO:+0100
TZNAME:CET
DTSTART:20251026T010000
END:STANDARD
BEGIN:DAYLIGHT
TZOFFSETFROM:+0100
TZOFFSETTO:+0200
TZNAME:CEST
DTSTART:20260329T010000
END:DAYLIGHT
BEGIN:STANDARD
TZOFFSETFROM:+0200
TZOFFSETTO:+0100
TZNAME:CET
DTSTART:20261025T010000
END:STANDARD
END:VTIMEZONE
BEGIN:VEVENT
DTSTART;TZID=Europe/Berlin:20250913T090000
DTEND;TZID=Europe/Berlin:20250914T190000
DTSTAMP:20260421T165414
CREATED:20250819T170528Z
LAST-MODIFIED:20250819T183254Z
UID:9457-1757754000-1757876400@deutscherdartverband.de
SUMMARY:1. BDV-RLT 2025/2026 mit DDV-Bronze Status in Ergolding
DESCRIPTION:
URL:https://deutscherdartverband.de/event-ddv/1-bdv-rlt-2025-2026-mit-ddv-bronze-status-in-ergolding/
LOCATION:Mehrzweckhalle Ergolding\, Sportplatzstr. 15b\, Ergolding\, Bayern\, 84030\, Germany
CATEGORIES:Kalender DDV Allgemein,Ranglistenturniere
END:VEVENT
BEGIN:VEVENT
DTSTART;TZID=Europe/Berlin:20250914T080000
DTEND;TZID=Europe/Berlin:20250914T190000
DTSTAMP:20260421T165414
CREATED:20250820T142445Z
LAST-MODIFIED:20250820T142445Z
UID:9477-1757836800-1757876400@deutscherdartverband.de
SUMMARY:NWDV-RLT Jugend Siegerland
DESCRIPTION:
URL:https://deutscherdartverband.de/event-ddv/nwdv-rlt-jugend-siegerland/
LOCATION:Sachsen
CATEGORIES:Kalender DDV Allgemein,Ranglistenturniere
END:VEVENT
END:VCALENDAR