BEGIN:VCALENDAR
VERSION:2.0
PRODID:-//Deutscher Dart-Verband e.V. - ECPv6.15.20//NONSGML v1.0//EN
CALSCALE:GREGORIAN
METHOD:PUBLISH
X-ORIGINAL-URL:https://deutscherdartverband.de
X-WR-CALDESC:Veranstaltungen für Deutscher Dart-Verband e.V.
REFRESH-INTERVAL;VALUE=DURATION:PT1H
X-Robots-Tag:noindex
X-PUBLISHED-TTL:PT1H
BEGIN:VTIMEZONE
TZID:Europe/Berlin
BEGIN:DAYLIGHT
TZOFFSETFROM:+0100
TZOFFSETTO:+0200
TZNAME:CEST
DTSTART:20240331T010000
END:DAYLIGHT
BEGIN:STANDARD
TZOFFSETFROM:+0200
TZOFFSETTO:+0100
TZNAME:CET
DTSTART:20241027T010000
END:STANDARD
BEGIN:DAYLIGHT
TZOFFSETFROM:+0100
TZOFFSETTO:+0200
TZNAME:CEST
DTSTART:20250330T010000
END:DAYLIGHT
BEGIN:STANDARD
TZOFFSETFROM:+0200
TZOFFSETTO:+0100
TZNAME:CET
DTSTART:20251026T010000
END:STANDARD
BEGIN:DAYLIGHT
TZOFFSETFROM:+0100
TZOFFSETTO:+0200
TZNAME:CEST
DTSTART:20260329T010000
END:DAYLIGHT
BEGIN:STANDARD
TZOFFSETFROM:+0200
TZOFFSETTO:+0100
TZNAME:CET
DTSTART:20261025T010000
END:STANDARD
END:VTIMEZONE
BEGIN:VEVENT
DTSTART;TZID=Europe/Berlin:20251011T090000
DTEND;TZID=Europe/Berlin:20251012T190000
DTSTAMP:20260423T105344
CREATED:20250819T182638Z
LAST-MODIFIED:20250819T183549Z
UID:9462-1760173200-1760295600@deutscherdartverband.de
SUMMARY:2. BDV-RLT 2025/2026 mit DDV-Bronze Status in Nürnberg / Oberasbach
DESCRIPTION:
URL:https://deutscherdartverband.de/event-ddv/2-bdv-rlt-2025-2026-mit-ddv-bronze-status-in-nuernberg-oberasbach/
LOCATION:Sachsen
CATEGORIES:Kalender DDV Allgemein,Ranglistenturniere
END:VEVENT
BEGIN:VEVENT
DTSTART;VALUE=DATE:20251018
DTEND;VALUE=DATE:20251020
DTSTAMP:20260423T105344
CREATED:20250512T192717Z
LAST-MODIFIED:20250512T192717Z
UID:9160-1760745600-1760918399@deutscherdartverband.de
SUMMARY:DDV-RLT - Hamburg
DESCRIPTION:
URL:https://deutscherdartverband.de/event-ddv/ddv-rlt-hamburg/
LOCATION:BSV Tennishalle\, Wendenstr. 120\, Hamburg\, 20537\, Germany
CATEGORIES:Kalender DDV Allgemein,Ranglistenturniere
END:VEVENT
END:VCALENDAR