BEGIN:VCALENDAR
VERSION:2.0
PRODID:-//Deutscher Dart-Verband e.V. - ECPv6.15.20//NONSGML v1.0//EN
CALSCALE:GREGORIAN
METHOD:PUBLISH
X-ORIGINAL-URL:https://deutscherdartverband.de
X-WR-CALDESC:Veranstaltungen für Deutscher Dart-Verband e.V.
REFRESH-INTERVAL;VALUE=DURATION:PT1H
X-Robots-Tag:noindex
X-PUBLISHED-TTL:PT1H
BEGIN:VTIMEZONE
TZID:Europe/Berlin
BEGIN:DAYLIGHT
TZOFFSETFROM:+0100
TZOFFSETTO:+0200
TZNAME:CEST
DTSTART:20240331T010000
END:DAYLIGHT
BEGIN:STANDARD
TZOFFSETFROM:+0200
TZOFFSETTO:+0100
TZNAME:CET
DTSTART:20241027T010000
END:STANDARD
BEGIN:DAYLIGHT
TZOFFSETFROM:+0100
TZOFFSETTO:+0200
TZNAME:CEST
DTSTART:20250330T010000
END:DAYLIGHT
BEGIN:STANDARD
TZOFFSETFROM:+0200
TZOFFSETTO:+0100
TZNAME:CET
DTSTART:20251026T010000
END:STANDARD
BEGIN:DAYLIGHT
TZOFFSETFROM:+0100
TZOFFSETTO:+0200
TZNAME:CEST
DTSTART:20260329T010000
END:DAYLIGHT
BEGIN:STANDARD
TZOFFSETFROM:+0200
TZOFFSETTO:+0100
TZNAME:CET
DTSTART:20261025T010000
END:STANDARD
END:VTIMEZONE
BEGIN:VEVENT
DTSTART;TZID=Europe/Berlin:20251101T090000
DTEND;TZID=Europe/Berlin:20251102T190000
DTSTAMP:20260419T225124
CREATED:20250820T055235Z
LAST-MODIFIED:20251015T153039Z
UID:9473-1761987600-1762110000@deutscherdartverband.de
SUMMARY:3. BDV-RLT mit DDV-Bronze Status in Vilsbiburg
DESCRIPTION:
URL:https://deutscherdartverband.de/event-ddv/3-bdv-ranglisten-turnier-2025-2026-mit-ddv-bronze-status-in-vilsbiburg/
LOCATION:Sachsen
CATEGORIES:Kalender DDV Allgemein,Ranglistenturniere
END:VEVENT
BEGIN:VEVENT
DTSTART;TZID=Europe/Berlin:20251102T080000
DTEND;TZID=Europe/Berlin:20251102T190000
DTSTAMP:20260419T225124
CREATED:20250820T142618Z
LAST-MODIFIED:20250820T191729Z
UID:9479-1762070400-1762110000@deutscherdartverband.de
SUMMARY:NWDV-RLT Jugend Siegerland
DESCRIPTION:
URL:https://deutscherdartverband.de/event-ddv/nwdv-rlt-jugend-siegerland-2/
LOCATION:Vereinsheim ASV Siegen Weidenau e.V.\, Köhlerweg 24\, Siegen\, Nordrhein-Westfalen\, 57076\, Germany
CATEGORIES:Kalender DDV Allgemein,Ranglistenturniere
END:VEVENT
BEGIN:VEVENT
DTSTART;VALUE=DATE:20251122
DTEND;VALUE=DATE:20251124
DTSTAMP:20260419T225124
CREATED:20250512T192452Z
LAST-MODIFIED:20250512T192836Z
UID:9164-1763769600-1763942399@deutscherdartverband.de
SUMMARY:DDV-RLT - Roßtal
DESCRIPTION:
URL:https://deutscherdartverband.de/event-ddv/ddv-rlt-rosstal/
LOCATION:Sporthalle Roßtal\, Wilhelm-Löhe-Str. 17\, Roßtal\, 90574\, Germany
CATEGORIES:Kalender DDV Allgemein,Ranglistenturniere
END:VEVENT
BEGIN:VEVENT
DTSTART;TZID=Europe/Berlin:20251129T083000
DTEND;TZID=Europe/Berlin:20251130T180000
DTSTAMP:20260419T225124
CREATED:20251104T172640Z
LAST-MODIFIED:20251104T175020Z
UID:9634-1764405000-1764525600@deutscherdartverband.de
SUMMARY:3. RPDV Ranglistenturnier und Blockspieltag DARTFARM OPEN 2025
DESCRIPTION:
URL:https://deutscherdartverband.de/event-ddv/3-rpdv-ranglistenturnier-und-blockspieltag-dartfarm-open-2025/
LOCATION:Schulzentrum Mehrzweckhalle Blankenrath\, Waldstr. 4\, Blankenrath / Hunsrück\, Rheinland-Pfalz\, 56865\, Germany
CATEGORIES:Kalender DDV Allgemein,Ranglistenturniere
END:VEVENT
END:VCALENDAR