BEGIN:VCALENDAR
VERSION:2.0
PRODID:-//Deutscher Dart-Verband e.V. - ECPv6.15.20//NONSGML v1.0//EN
CALSCALE:GREGORIAN
METHOD:PUBLISH
X-WR-CALNAME:Deutscher Dart-Verband e.V.
X-ORIGINAL-URL:https://deutscherdartverband.de
X-WR-CALDESC:Veranstaltungen für Deutscher Dart-Verband e.V.
REFRESH-INTERVAL;VALUE=DURATION:PT1H
X-Robots-Tag:noindex
X-PUBLISHED-TTL:PT1H
BEGIN:VTIMEZONE
TZID:Europe/Berlin
BEGIN:DAYLIGHT
TZOFFSETFROM:+0100
TZOFFSETTO:+0200
TZNAME:CEST
DTSTART:20240331T010000
END:DAYLIGHT
BEGIN:STANDARD
TZOFFSETFROM:+0200
TZOFFSETTO:+0100
TZNAME:CET
DTSTART:20241027T010000
END:STANDARD
BEGIN:DAYLIGHT
TZOFFSETFROM:+0100
TZOFFSETTO:+0200
TZNAME:CEST
DTSTART:20250330T010000
END:DAYLIGHT
BEGIN:STANDARD
TZOFFSETFROM:+0200
TZOFFSETTO:+0100
TZNAME:CET
DTSTART:20251026T010000
END:STANDARD
BEGIN:DAYLIGHT
TZOFFSETFROM:+0100
TZOFFSETTO:+0200
TZNAME:CEST
DTSTART:20260329T010000
END:DAYLIGHT
BEGIN:STANDARD
TZOFFSETFROM:+0200
TZOFFSETTO:+0100
TZNAME:CET
DTSTART:20261025T010000
END:STANDARD
END:VTIMEZONE
BEGIN:VEVENT
DTSTART;VALUE=DATE:20251206
DTEND;VALUE=DATE:20251207
DTSTAMP:20260419T211340
CREATED:20251118T130233Z
LAST-MODIFIED:20251118T131907Z
UID:9665-1764979200-1765065599@deutscherdartverband.de
SUMMARY:5. SDV-RLT SV Zschaitz 06.12.2025
DESCRIPTION:Anmeldung ist Pflicht bis 4.12.2025 22Uhr\nMeldeschluss 11:30 Uhr\, Beginn 12 Uhr \n-Für alle Mitglieder im DDV beträgt das Startgeld 15€\n-Die Anmeldungen sind dann immer zeitnah in 2k zu finden\n-Bezahlung findet immer vor Ort statt
URL:https://deutscherdartverband.de/event-ddv/5-sdv-rlt-sv-zschaitz-06-12-2025/
LOCATION:SV Zschaitz\, Bayerische Str. 10\, Zschaitz\, Sachsen\, 04720\, Germany
CATEGORIES:Kalender DDV Allgemein,Ranglistenturniere
END:VEVENT
BEGIN:VEVENT
DTSTART;TZID=Europe/Berlin:20251207T080000
DTEND;TZID=Europe/Berlin:20251207T190000
DTSTAMP:20260419T211340
CREATED:20250820T142820Z
LAST-MODIFIED:20250820T190422Z
UID:9481-1765094400-1765134000@deutscherdartverband.de
SUMMARY:NWDV-RLT Jugend in Lobberich
DESCRIPTION:
URL:https://deutscherdartverband.de/event-ddv/nwdv-rlt-jugend-in-lobberich/
LOCATION:Brüggener Dart-Base\, Sankt-Barbara-Str. 45c\, Brüggen\, Nordrhein-Westfalen\, 41379\, Germany
CATEGORIES:Kalender DDV Allgemein,Ranglistenturniere
END:VEVENT
END:VCALENDAR