BEGIN:VCALENDAR
VERSION:2.0
PRODID:-//Deutscher Dart-Verband e.V. - ECPv6.15.20//NONSGML v1.0//EN
CALSCALE:GREGORIAN
METHOD:PUBLISH
X-WR-CALNAME:Deutscher Dart-Verband e.V.
X-ORIGINAL-URL:https://deutscherdartverband.de
X-WR-CALDESC:Veranstaltungen für Deutscher Dart-Verband e.V.
REFRESH-INTERVAL;VALUE=DURATION:PT1H
X-Robots-Tag:noindex
X-PUBLISHED-TTL:PT1H
BEGIN:VTIMEZONE
TZID:Europe/Berlin
BEGIN:DAYLIGHT
TZOFFSETFROM:+0100
TZOFFSETTO:+0200
TZNAME:CEST
DTSTART:20250330T010000
END:DAYLIGHT
BEGIN:STANDARD
TZOFFSETFROM:+0200
TZOFFSETTO:+0100
TZNAME:CET
DTSTART:20251026T010000
END:STANDARD
BEGIN:DAYLIGHT
TZOFFSETFROM:+0100
TZOFFSETTO:+0200
TZNAME:CEST
DTSTART:20260329T010000
END:DAYLIGHT
BEGIN:STANDARD
TZOFFSETFROM:+0200
TZOFFSETTO:+0100
TZNAME:CET
DTSTART:20261025T010000
END:STANDARD
BEGIN:DAYLIGHT
TZOFFSETFROM:+0100
TZOFFSETTO:+0200
TZNAME:CEST
DTSTART:20270328T010000
END:DAYLIGHT
BEGIN:STANDARD
TZOFFSETFROM:+0200
TZOFFSETTO:+0100
TZNAME:CET
DTSTART:20271031T010000
END:STANDARD
END:VTIMEZONE
BEGIN:VEVENT
DTSTART;VALUE=DATE:20260228
DTEND;VALUE=DATE:20260302
DTSTAMP:20260419T154633
CREATED:20251015T150431Z
LAST-MODIFIED:20251015T151103Z
UID:9562-1772236800-1772409599@deutscherdartverband.de
SUMMARY:HDV-RLT mit DDV-Bronze Status in Reinheim/Spachbrücken
DESCRIPTION:
URL:https://deutscherdartverband.de/event-ddv/hdv-rlt-mit-ddv-bronze-status/
LOCATION:Mehrzweckhalle Reinheim/Spachbrücken\, Lessingstraße 2\, Reinheim/Spachbrücken\, 64354
CATEGORIES:Kalender DDV Allgemein,Ranglistenturniere
END:VEVENT
BEGIN:VEVENT
DTSTART;VALUE=DATE:20260328
DTEND;VALUE=DATE:20260330
DTSTAMP:20260419T154633
CREATED:20250819T183006Z
LAST-MODIFIED:20251015T152804Z
UID:9464-1774656000-1774828799@deutscherdartverband.de
SUMMARY:6. BDV-RLT mit DDV-Bronze Status in Augsburg / Bobingen
DESCRIPTION:
URL:https://deutscherdartverband.de/event-ddv/6-bdv-rlt-2025-2026-mit-ddv-bronze-status-in-augsburg-bobingen/
LOCATION:Sachsen
CATEGORIES:Kalender DDV Allgemein,Ranglistenturniere
END:VEVENT
BEGIN:VEVENT
DTSTART;VALUE=DATE:20260328
DTEND;VALUE=DATE:20260330
DTSTAMP:20260419T154633
CREATED:20251015T150715Z
LAST-MODIFIED:20251015T150921Z
UID:9567-1774656000-1774828799@deutscherdartverband.de
SUMMARY:HDV-RLT mit DDV-Bronze Status in Offenbach am Main
DESCRIPTION:
URL:https://deutscherdartverband.de/event-ddv/hdv-rlt-mit-ddv-bronze-status-2/
LOCATION:Halle am Buchhügel\, Buchhügelallee\, Offenbach am Main\, Hessen\, 663071\, Germany
CATEGORIES:Kalender DDV Allgemein,Ranglistenturniere
END:VEVENT
END:VCALENDAR